BEGIN:VCALENDAR
VERSION:2.0
PRODID:-//Tallgrass Christian Camp - ECPv6.15.12.2//NONSGML v1.0//EN
CALSCALE:GREGORIAN
METHOD:PUBLISH
X-WR-CALNAME:Tallgrass Christian Camp
X-ORIGINAL-URL:https://tallgrasschristiancamp.org
X-WR-CALDESC:Events for Tallgrass Christian Camp
REFRESH-INTERVAL;VALUE=DURATION:PT1H
X-Robots-Tag:noindex
X-PUBLISHED-TTL:PT1H
BEGIN:VTIMEZONE
TZID:UTC
BEGIN:STANDARD
TZOFFSETFROM:+0000
TZOFFSETTO:+0000
TZNAME:UTC
DTSTART:20240101T000000
END:STANDARD
END:VTIMEZONE
BEGIN:VEVENT
DTSTART;TZID=UTC:20251017T140000
DTEND;TZID=UTC:20251018T120000
DTSTAMP:20260422T215943
CREATED:20250726T214658Z
LAST-MODIFIED:20250726T214658Z
UID:3735-1760709600-1760788800@tallgrasschristiancamp.org
SUMMARY:Overland Park Church of Christ Reunion
DESCRIPTION:Led by Doug Portell
URL:https://tallgrasschristiancamp.org/event/overland-park-church-of-christ-reunion/
END:VEVENT
END:VCALENDAR