BEGIN:VCALENDAR
VERSION:2.0
PRODID:-//Tallgrass Christian Camp - ECPv6.15.12.2//NONSGML v1.0//EN
CALSCALE:GREGORIAN
METHOD:PUBLISH
X-WR-CALNAME:Tallgrass Christian Camp
X-ORIGINAL-URL:https://tallgrasschristiancamp.org
X-WR-CALDESC:Events for Tallgrass Christian Camp
REFRESH-INTERVAL;VALUE=DURATION:PT1H
X-Robots-Tag:noindex
X-PUBLISHED-TTL:PT1H
BEGIN:VTIMEZONE
TZID:UTC
BEGIN:STANDARD
TZOFFSETFROM:+0000
TZOFFSETTO:+0000
TZNAME:UTC
DTSTART:20240101T000000
END:STANDARD
END:VTIMEZONE
BEGIN:VEVENT
DTSTART;TZID=UTC:20251114T140000
DTEND;TZID=UTC:20251116T120000
DTSTAMP:20260422T220040
CREATED:20250825T205449Z
LAST-MODIFIED:20250828T020310Z
UID:3740-1763128800-1763294400@tallgrasschristiancamp.org
SUMMARY:Christ Connect Fall Retreat
DESCRIPTION:
URL:https://tallgrasschristiancamp.org/event/christ-connect-fall-retreat/
END:VEVENT
END:VCALENDAR