BEGIN:VCALENDAR
VERSION:2.0
PRODID:-//Tallgrass Christian Camp - ECPv6.15.12.2//NONSGML v1.0//EN
CALSCALE:GREGORIAN
METHOD:PUBLISH
X-WR-CALNAME:Tallgrass Christian Camp
X-ORIGINAL-URL:https://tallgrasschristiancamp.org
X-WR-CALDESC:Events for Tallgrass Christian Camp
REFRESH-INTERVAL;VALUE=DURATION:PT1H
X-Robots-Tag:noindex
X-PUBLISHED-TTL:PT1H
BEGIN:VTIMEZONE
TZID:UTC
BEGIN:STANDARD
TZOFFSETFROM:+0000
TZOFFSETTO:+0000
TZNAME:UTC
DTSTART:20240101T000000
END:STANDARD
END:VTIMEZONE
BEGIN:VEVENT
DTSTART;VALUE=DATE:20250531
DTEND;VALUE=DATE:20250606
DTSTAMP:20260423T035549
CREATED:20250207T170643Z
LAST-MODIFIED:20250207T170643Z
UID:3624-1748649600-1749167999@tallgrasschristiancamp.org
SUMMARY:Summer In The Son
DESCRIPTION:
URL:https://tallgrasschristiancamp.org/event/summer-in-the-son-3/
END:VEVENT
BEGIN:VEVENT
DTSTART;VALUE=DATE:20250606
DTEND;VALUE=DATE:20250608
DTSTAMP:20260423T035549
CREATED:20241205T190044Z
LAST-MODIFIED:20241205T190044Z
UID:3222-1749168000-1749340799@tallgrasschristiancamp.org
SUMMARY:Trailblazers
DESCRIPTION:
URL:https://tallgrasschristiancamp.org/event/trailblazers/
END:VEVENT
BEGIN:VEVENT
DTSTART;VALUE=DATE:20250608
DTEND;VALUE=DATE:20250614
DTSTAMP:20260423T035549
CREATED:20241001T145843Z
LAST-MODIFIED:20241001T145936Z
UID:3196-1749340800-1749859199@tallgrasschristiancamp.org
SUMMARY:Tallgrass Elementary Camp
DESCRIPTION:
URL:https://tallgrasschristiancamp.org/event/tallgrass-elementary-camp/
END:VEVENT
BEGIN:VEVENT
DTSTART;VALUE=DATE:20250622
DTEND;VALUE=DATE:20250628
DTSTAMP:20260423T035549
CREATED:20241001T145919Z
LAST-MODIFIED:20241001T145919Z
UID:3198-1750550400-1751068799@tallgrasschristiancamp.org
SUMMARY:Tallgrass - Teen Camp
DESCRIPTION:
URL:https://tallgrasschristiancamp.org/event/tallgrass-teen-camp/
END:VEVENT
BEGIN:VEVENT
DTSTART;VALUE=DATE:20250630
DTEND;VALUE=DATE:20250704
DTSTAMP:20260423T035549
CREATED:20241023T155104Z
LAST-MODIFIED:20250109T152558Z
UID:3213-1751241600-1751587199@tallgrasschristiancamp.org
SUMMARY:Timothy Summit - 2025
DESCRIPTION:
URL:https://tallgrasschristiancamp.org/event/timothy-summit-2024/
END:VEVENT
END:VCALENDAR